BEGIN:VCALENDAR
VERSION:2.0
PRODID:-//GFWC Woman&#039;s Club of New Tampa, Inc. - ECPv6.15.20//NONSGML v1.0//EN
CALSCALE:GREGORIAN
METHOD:PUBLISH
X-ORIGINAL-URL:https://gfwcnewtampa.org
X-WR-CALDESC:Events for GFWC Woman&#039;s Club of New Tampa, Inc.
REFRESH-INTERVAL;VALUE=DURATION:PT1H
X-Robots-Tag:noindex
X-PUBLISHED-TTL:PT1H
BEGIN:VTIMEZONE
TZID:America/New_York
BEGIN:DAYLIGHT
TZOFFSETFROM:-0500
TZOFFSETTO:-0400
TZNAME:EDT
DTSTART:20240310T070000
END:DAYLIGHT
BEGIN:STANDARD
TZOFFSETFROM:-0400
TZOFFSETTO:-0500
TZNAME:EST
DTSTART:20241103T060000
END:STANDARD
BEGIN:DAYLIGHT
TZOFFSETFROM:-0500
TZOFFSETTO:-0400
TZNAME:EDT
DTSTART:20250309T070000
END:DAYLIGHT
BEGIN:STANDARD
TZOFFSETFROM:-0400
TZOFFSETTO:-0500
TZNAME:EST
DTSTART:20251102T060000
END:STANDARD
BEGIN:DAYLIGHT
TZOFFSETFROM:-0500
TZOFFSETTO:-0400
TZNAME:EDT
DTSTART:20260308T070000
END:DAYLIGHT
BEGIN:STANDARD
TZOFFSETFROM:-0400
TZOFFSETTO:-0500
TZNAME:EST
DTSTART:20261101T060000
END:STANDARD
END:VTIMEZONE
BEGIN:VEVENT
DTSTART;TZID=America/New_York:20251007T190000
DTEND;TZID=America/New_York:20251007T200000
DTSTAMP:20260420T071001
CREATED:20251004T174948Z
LAST-MODIFIED:20251004T174948Z
UID:4755-1759863600-1759867200@gfwcnewtampa.org
SUMMARY:Arts & Culture Webinar
DESCRIPTION:GFWC FLORIDA WEBINAR \nSERIES – ARTS & CUL TURE \nREGISTRATION LINK: \nHTTPS://FORMS.GLE/WWTXABEVD5KHNUNDA
URL:https://gfwcnewtampa.org/event/arts-culture-webinar/
END:VEVENT
BEGIN:VEVENT
DTSTART;TZID=America/New_York:20251015T080000
DTEND;TZID=America/New_York:20251015T170000
DTSTAMP:20260420T071001
CREATED:20251015T120358Z
LAST-MODIFIED:20251015T120358Z
UID:4823-1760515200-1760547600@gfwcnewtampa.org
SUMMARY:Hamilton
DESCRIPTION:Lets go to the movies – Hamilton \n12:15 – 3:45 pm \nAMC Theatres\, Highwoods Preserves \n 
URL:https://gfwcnewtampa.org/event/hamilton/
LOCATION:AMC Highwoods\, 18002 Bruce B Downs\, Tampa 33647
END:VEVENT
BEGIN:VEVENT
DTSTART;TZID=America/New_York:20251015T080000
DTEND;TZID=America/New_York:20251015T170000
DTSTAMP:20260420T071001
CREATED:20251015T122246Z
LAST-MODIFIED:20251015T122246Z
UID:4846-1760515200-1760547600@gfwcnewtampa.org
SUMMARY:New Tampa Players Ampersand Theatre
DESCRIPTION:Please review the available slots below and click on the button to sign up. Thank you! \nDate: 06/20/2025 (Fri.) \n  \nTime: 5:30pm – 8:00pm EDT \n  \nLocation: New Tampa Theater
URL:https://gfwcnewtampa.org/event/new-tampa-players-ampersand-theatre/
END:VEVENT
BEGIN:VEVENT
DTSTART;TZID=America/New_York:20251015T130000
DTEND;TZID=America/New_York:20251015T150000
DTSTAMP:20260420T071001
CREATED:20251004T174738Z
LAST-MODIFIED:20251004T174738Z
UID:4753-1760533200-1760540400@gfwcnewtampa.org
SUMMARY:October General Meeting
DESCRIPTION:Collections: Toiletries for The Spring; $25 gift cards for Bingo prizes\, and youth clothing (sizes 10-14) for Isaiah 117 House bins \nGuest Speaker: Tamika Thomas-Simpson sharing -information on Domestic Violence\, the GFWC Florida Signature Project. \nEarly Bird Holiday Shoppers –We’ll have client wish lists from Aging Solutions for the Elves forElders collection coming this December
URL:https://gfwcnewtampa.org/event/october-general-meeting/
END:VEVENT
BEGIN:VEVENT
DTSTART;TZID=America/New_York:20251017T123000
DTEND;TZID=America/New_York:20251017T160000
DTSTAMP:20260420T071001
CREATED:20251004T175435Z
LAST-MODIFIED:20251004T175517Z
UID:4757-1760704200-1760716800@gfwcnewtampa.org
SUMMARY:Trunk or Treat at Layla's House
DESCRIPTION:TRUNK OR TREAT AT LAYLA’S HOUSE \nHanding out fun bathtub toys as part of Layla’s House Teal Pumpkin \nLooking for volunteers to help at event and to  transform a trunk into a bathtub theme. \nTime change set up between 12:30 and 1 pm.
URL:https://gfwcnewtampa.org/event/4757/
END:VEVENT
BEGIN:VEVENT
DTSTART;TZID=America/New_York:20251018T090000
DTEND;TZID=America/New_York:20251018T100000
DTSTAMP:20260420T071001
CREATED:20251004T175726Z
LAST-MODIFIED:20251004T175726Z
UID:4760-1760778000-1760781600@gfwcnewtampa.org
SUMMARY:WALK TO END ALZHEIMER’S
DESCRIPTION:Hunter’s Green Community Park -Meet at the Community Center \nDonate and join our Team: GFWC Womans Club of New Tamp \nTampa at alz.org
URL:https://gfwcnewtampa.org/event/walk-to-end-alzheimers/
END:VEVENT
BEGIN:VEVENT
DTSTART;TZID=America/New_York:20251022T180000
DTEND;TZID=America/New_York:20251022T203000
DTSTAMP:20260420T071001
CREATED:20251004T180129Z
LAST-MODIFIED:20251004T180129Z
UID:4762-1761156000-1761165000@gfwcnewtampa.org
SUMMARY:Bingo Fundraiser
DESCRIPTION:BINGO Event – October 22 @ 6pm \nCompton Park – 16101 Compton Dr\, Tampa\, Florida \nPlease use SignUpGenius to offer your volunteer support. \nTickets available at general meeting or contact a member of the Leadership Team. \n$25 Gift Card donation collection \n 
URL:https://gfwcnewtampa.org/event/bingo-fundraiser/
LOCATION:Compton Park –
END:VEVENT
BEGIN:VEVENT
DTSTART;TZID=America/New_York:20251025T073000
DTEND;TZID=America/New_York:20251025T110000
DTSTAMP:20260420T071001
CREATED:20251004T180514Z
LAST-MODIFIED:20251004T180514Z
UID:4765-1761377400-1761390000@gfwcnewtampa.org
SUMMARY:Make Strides for Breast Cancer
DESCRIPTION:Walk at Raymond James -Festivities begin at 7:30am \nWalk commences at 9am \nDonate and join our Team: GFWC Womans Club of New Tampa at \nhttps://secure.acsevents.org \nPlease contact Joyce if interested. The event maybe changed to Hunter’s Green Community Center
URL:https://gfwcnewtampa.org/event/make-strides-for-breast-cancer/
END:VEVENT
BEGIN:VEVENT
DTSTART;TZID=America/New_York:20251030T120000
DTEND;TZID=America/New_York:20251030T143000
DTSTAMP:20260420T071001
CREATED:20251004T180738Z
LAST-MODIFIED:20251004T180738Z
UID:4767-1761825600-1761834600@gfwcnewtampa.org
SUMMARY:You Do the Dishes Social
DESCRIPTION:SOCIAL EVENT AT YOU DO THE DISHES \nPaint\, Sip and Socialize \nOctober 30\, 12-2:30pm \n15357 Amberly Dr. Tampa \nMembers pay for the event
URL:https://gfwcnewtampa.org/event/you-do-the-dishes-social/
END:VEVENT
BEGIN:VEVENT
DTSTART;TZID=America/New_York:20251031T080000
DTEND;TZID=America/New_York:20251031T170000
DTSTAMP:20260420T071001
CREATED:20251031T175414Z
LAST-MODIFIED:20251031T175414Z
UID:4858-1761897600-1761930000@gfwcnewtampa.org
SUMMARY:GFWC Webinar Series Civic Outreach & Engagement
DESCRIPTION:Civic Engagement & Outreach \nJoin us for the “Better Together: Winning Project Ideas for Civic Engagement & Outreach” webinar on Wednesday\, November 12 at 7:00pm ET. \nRegister Here: https://forms.gle/KQhM3LLv8RvDxwVv5
URL:https://gfwcnewtampa.org/event/gfwc-webinar-series-civic-outreach-engagement/
END:VEVENT
END:VCALENDAR