BEGIN:VCALENDAR
VERSION:2.0
PRODID:-//GFWC Woman&#039;s Club of New Tampa, Inc. - ECPv6.15.20//NONSGML v1.0//EN
CALSCALE:GREGORIAN
METHOD:PUBLISH
X-ORIGINAL-URL:https://gfwcnewtampa.org
X-WR-CALDESC:Events for GFWC Woman&#039;s Club of New Tampa, Inc.
REFRESH-INTERVAL;VALUE=DURATION:PT1H
X-Robots-Tag:noindex
X-PUBLISHED-TTL:PT1H
BEGIN:VTIMEZONE
TZID:America/New_York
BEGIN:DAYLIGHT
TZOFFSETFROM:-0500
TZOFFSETTO:-0400
TZNAME:EDT
DTSTART:20240310T070000
END:DAYLIGHT
BEGIN:STANDARD
TZOFFSETFROM:-0400
TZOFFSETTO:-0500
TZNAME:EST
DTSTART:20241103T060000
END:STANDARD
BEGIN:DAYLIGHT
TZOFFSETFROM:-0500
TZOFFSETTO:-0400
TZNAME:EDT
DTSTART:20250309T070000
END:DAYLIGHT
BEGIN:STANDARD
TZOFFSETFROM:-0400
TZOFFSETTO:-0500
TZNAME:EST
DTSTART:20251102T060000
END:STANDARD
BEGIN:DAYLIGHT
TZOFFSETFROM:-0500
TZOFFSETTO:-0400
TZNAME:EDT
DTSTART:20260308T070000
END:DAYLIGHT
BEGIN:STANDARD
TZOFFSETFROM:-0400
TZOFFSETTO:-0500
TZNAME:EST
DTSTART:20261101T060000
END:STANDARD
END:VTIMEZONE
BEGIN:VEVENT
DTSTART;TZID=America/New_York:20250804T100000
DTEND;TZID=America/New_York:20250804T120000
DTSTAMP:20260420T143635
CREATED:20251015T121131Z
LAST-MODIFIED:20251015T121131Z
UID:4832-1754301600-1754308800@gfwcnewtampa.org
SUMMARY:GFWC Fundraiser Planning Meeting
DESCRIPTION:As Benjamin Franklin said\, “If you fail to plan\, you are planning to fail.” \nSo let’s plan our way to success when we meet for a fundraiser planning meeting. \nPlease join us. Thank you! \nDate: 08/04/2025 (Mon.) \n  \nTime: 10:00am – 12:00pm EDT \n  \nLocation: 10550 Plantation Bay Dr\, Tampa\, 33647
URL:https://gfwcnewtampa.org/event/gfwc-fundraiser-planning-meeting/
LOCATION:Bayscapes – 10550 Plantation Bay Dr\, Tampa\, 33647
END:VEVENT
BEGIN:VEVENT
DTSTART;TZID=America/New_York:20250820T130000
DTEND;TZID=America/New_York:20250820T140000
DTSTAMP:20260420T143635
CREATED:20251015T121309Z
LAST-MODIFIED:20251015T121309Z
UID:4835-1755694800-1755698400@gfwcnewtampa.org
SUMMARY:GFWC August Meeting
DESCRIPTION:Please join us for our Welcome Back Fiesta luncheon. \nDate: 08/20/2025 (Wed.) \n  \nTime: 1:00pm – 2:00pm EDT \n  \nLocation: Arbor Greene Clubhouse
URL:https://gfwcnewtampa.org/event/gfwc-august-meeting/
LOCATION:Arbor Green Clubhouse\, 18000 Arbor Greene Dr\, Tampa\, FL\, 33647\, United States
END:VEVENT
BEGIN:VEVENT
DTSTART;TZID=America/New_York:20250821T183000
DTEND;TZID=America/New_York:20250821T203000
DTSTAMP:20260420T143635
CREATED:20251015T121638Z
LAST-MODIFIED:20251015T121638Z
UID:4837-1755801000-1755808200@gfwcnewtampa.org
SUMMARY:GFWC Trivia
DESCRIPTION:Please join your club sisters for a night of fun\, food and trivia! \nDate: 08/21/2025 (Thu.) \n  \nTime: 6:30pm – 8:30pm EDT \n  \nLocation: BayScape Bistro at Heritage Isle\, 10630 Plantation Bay Dr\, Tampa\, 33647
URL:https://gfwcnewtampa.org/event/gfwc-trivia/
LOCATION:Bayscape Bistro at Heritage Isles\, 10630 Planation Bay Drive
END:VEVENT
BEGIN:VEVENT
DTSTART;TZID=America/New_York:20250827T100000
DTEND;TZID=America/New_York:20250827T140000
DTSTAMP:20260420T143635
CREATED:20251015T121818Z
LAST-MODIFIED:20251015T121818Z
UID:4840-1756288800-1756303200@gfwcnewtampa.org
SUMMARY:GFWC Creative Basket Building
DESCRIPTION:Now that we’ve cleaned out our closets…let’s get together to assemble our donation baskets. \nThroughout the year our club is asked to provide baskets for District 8 events and clubs as well FLA Fall and Spring conventions. We will build the baskets so they are ready to go when needed. \nDate: 08/27/2025 (Wed.) \n  \nTime: 10:00am – 2:00pm EDT \n  \n 
URL:https://gfwcnewtampa.org/event/gfwc-creative-basket-building/
END:VEVENT
END:VCALENDAR