BEGIN:VCALENDAR
VERSION:2.0
PRODID:-//GFWC Woman&#039;s Club of New Tampa, Inc. - ECPv6.15.20//NONSGML v1.0//EN
CALSCALE:GREGORIAN
METHOD:PUBLISH
X-ORIGINAL-URL:https://gfwcnewtampa.org
X-WR-CALDESC:Events for GFWC Woman&#039;s Club of New Tampa, Inc.
REFRESH-INTERVAL;VALUE=DURATION:PT1H
X-Robots-Tag:noindex
X-PUBLISHED-TTL:PT1H
BEGIN:VTIMEZONE
TZID:America/New_York
BEGIN:DAYLIGHT
TZOFFSETFROM:-0500
TZOFFSETTO:-0400
TZNAME:EDT
DTSTART:20240310T070000
END:DAYLIGHT
BEGIN:STANDARD
TZOFFSETFROM:-0400
TZOFFSETTO:-0500
TZNAME:EST
DTSTART:20241103T060000
END:STANDARD
BEGIN:DAYLIGHT
TZOFFSETFROM:-0500
TZOFFSETTO:-0400
TZNAME:EDT
DTSTART:20250309T070000
END:DAYLIGHT
BEGIN:STANDARD
TZOFFSETFROM:-0400
TZOFFSETTO:-0500
TZNAME:EST
DTSTART:20251102T060000
END:STANDARD
BEGIN:DAYLIGHT
TZOFFSETFROM:-0500
TZOFFSETTO:-0400
TZNAME:EDT
DTSTART:20260308T070000
END:DAYLIGHT
BEGIN:STANDARD
TZOFFSETFROM:-0400
TZOFFSETTO:-0500
TZNAME:EST
DTSTART:20261101T060000
END:STANDARD
END:VTIMEZONE
BEGIN:VEVENT
DTSTART;VALUE=DATE:20250501
DTEND;VALUE=DATE:20250502
DTSTAMP:20260420T200418
CREATED:20250121T212513Z
LAST-MODIFIED:20250121T212513Z
UID:4461-1746057600-1746143999@gfwcnewtampa.org
SUMMARY:Mental Health Awareness Month
DESCRIPTION:Mental Health Awareness Month \nHealth & Wellness Committee \nNow is a great time to reach out to a friend. \nMental Health Awareness Month activities include:  \n\nMental health screenings: \n\n\nExercise: Participate in group activities like walking\, biking\, or dancing to release endorphins and reduce stress \n\n\nGuided meditation: Focus on the present moment without judging yourself to lower stress and promote mental health \n\n\nShowing gratitude: Explore ways to build gratitude\, such as journaling\, meditating\, and expressing thanks to others \n\n\nCommunity mental health fairs: Host events to reduce the stigma surrounding mental health conditions \n\n\nDance parties: Have fun and destress with a dance party \n\n\nPet-friendly events: Include pets in your activities to take advantage of their mental health benefits \n\n\nEducational workshops: Provide workshops on mental health topics \n\n\nZen spaces: Set up areas in the office for relaxation \n\n\nSelf-care time: Set aside time for self-care during the day \n\n\nPeer-to-peer shout-outs: Encourage employees to recognize each other \n\n\nTalk to leadership: Discuss mental health with your leadership team \n\n 
URL:https://gfwcnewtampa.org/event/mental-health-awareness-month/
END:VEVENT
BEGIN:VEVENT
DTSTART;TZID=America/New_York:20250506T090000
DTEND;TZID=America/New_York:20250506T113000
DTSTAMP:20260420T200418
CREATED:20250217T024527Z
LAST-MODIFIED:20250217T030025Z
UID:4518-1746522000-1746531000@gfwcnewtampa.org
SUMMARY:Volunteering at Feeding Tampa Bay
DESCRIPTION:SignUpGenius ???? Feeding Tampa Bay May 6th \n\nBook selection A Million Little Choices by Tamera Alexander\nMeet at The Tennis and Athletic Center (TAC) in Hunters Green
URL:https://gfwcnewtampa.org/event/volunteering-at-feeding-tampa-bay/
END:VEVENT
BEGIN:VEVENT
DTSTART;TZID=America/New_York:20250515T170000
DTEND;TZID=America/New_York:20250515T180000
DTSTAMP:20260420T200418
CREATED:20250121T213258Z
LAST-MODIFIED:20250121T213258Z
UID:4467-1747328400-1747332000@gfwcnewtampa.org
SUMMARY:Wellness Wednesday with Linda Jones
DESCRIPTION:Wednesday\, May 15th @ 5 pm \nWellness Wednesday with Linda Jones \nHealth & Wellness Committee \nSignUpGenius ???? Welllness Wednesday May 14th \n\n Join our very own Linda Jones fitness class at Hunter’s Green Athletic Center\nFree for Social Members and $10 for visitors
URL:https://gfwcnewtampa.org/event/wellness-wednesday-with-linda-jones-16/
END:VEVENT
BEGIN:VEVENT
DTSTART;TZID=America/New_York:20250521T123000
DTEND;TZID=America/New_York:20250521T130000
DTSTAMP:20260420T200418
CREATED:20250217T025320Z
LAST-MODIFIED:20250217T025320Z
UID:4520-1747830600-1747832400@gfwcnewtampa.org
SUMMARY:May ESO Book Club
DESCRIPTION:SignUpGenius ????May ESO Book Club May 21st \n\nBook selection A Million Little Choices by Tamera Alexander\nMeet at The Tennis and Athletic Center (TAC) in Hunters Green
URL:https://gfwcnewtampa.org/event/may-eso-book-club/
END:VEVENT
BEGIN:VEVENT
DTSTART;TZID=America/New_York:20250521T130000
DTEND;TZID=America/New_York:20250521T140000
DTSTAMP:20260420T200418
CREATED:20250121T212956Z
LAST-MODIFIED:20250121T212956Z
UID:4465-1747832400-1747836000@gfwcnewtampa.org
SUMMARY:General Meeting - Year End Luncheon
DESCRIPTION:Wednesday\, May 21th @ 1pm \nGeneral Meeting – Year End Luncheon \nMembership  Committee \nSignUpGenius ???? End of Year Luncheon May 21st \n  \n\nCome celebrate everything that we accomplished during the 2024/2025 Where We Made HERstory!\nNew Leadership Team will be recognized.
URL:https://gfwcnewtampa.org/event/general-meeting-year-end-luncheon/
END:VEVENT
END:VCALENDAR