BEGIN:VCALENDAR
VERSION:2.0
PRODID:-//GFWC Woman&#039;s Club of New Tampa, Inc. - ECPv6.15.20//NONSGML v1.0//EN
CALSCALE:GREGORIAN
METHOD:PUBLISH
X-WR-CALNAME:GFWC Woman&#039;s Club of New Tampa, Inc.
X-ORIGINAL-URL:https://gfwcnewtampa.org
X-WR-CALDESC:Events for GFWC Woman&#039;s Club of New Tampa, Inc.
REFRESH-INTERVAL;VALUE=DURATION:PT1H
X-Robots-Tag:noindex
X-PUBLISHED-TTL:PT1H
BEGIN:VTIMEZONE
TZID:America/New_York
BEGIN:DAYLIGHT
TZOFFSETFROM:-0500
TZOFFSETTO:-0400
TZNAME:EDT
DTSTART:20240310T070000
END:DAYLIGHT
BEGIN:STANDARD
TZOFFSETFROM:-0400
TZOFFSETTO:-0500
TZNAME:EST
DTSTART:20241103T060000
END:STANDARD
BEGIN:DAYLIGHT
TZOFFSETFROM:-0500
TZOFFSETTO:-0400
TZNAME:EDT
DTSTART:20250309T070000
END:DAYLIGHT
BEGIN:STANDARD
TZOFFSETFROM:-0400
TZOFFSETTO:-0500
TZNAME:EST
DTSTART:20251102T060000
END:STANDARD
BEGIN:DAYLIGHT
TZOFFSETFROM:-0500
TZOFFSETTO:-0400
TZNAME:EDT
DTSTART:20260308T070000
END:DAYLIGHT
BEGIN:STANDARD
TZOFFSETFROM:-0400
TZOFFSETTO:-0500
TZNAME:EST
DTSTART:20261101T060000
END:STANDARD
END:VTIMEZONE
BEGIN:VEVENT
DTSTART;TZID=America/New_York:20250205T190000
DTEND;TZID=America/New_York:20250205T200000
DTSTAMP:20260421T012123
CREATED:20250121T140228Z
LAST-MODIFIED:20250121T141043Z
UID:4441-1738782000-1738785600@gfwcnewtampa.org
SUMMARY:Heart Health Awareness Month - Gateway Series
DESCRIPTION:Wednesday\, February 5th  @ 7 P.M \nHeart Health Awareness Month \nTHE GFWC LEARNING GATEWAY SERIES https://bit.ly/48Epc7g \nDuring Heart Health Awareness Month\, Jude Mabone\, Miss District of Columbia 2023 and GFWC Health \nand Wellness Honorary Chairman recounts how her own heart health scare has brought her to work with \nthe American Heart Association. She will share her life’s journey and the importance of CPR/AED training. \nA $50 donation will be made to the American Heart Association from our club in honor of Heart Health Awareness Month.
URL:https://gfwcnewtampa.org/event/heart-health-awareness-month-gateway-series/
END:VEVENT
BEGIN:VEVENT
DTSTART;VALUE=DATE:20250208
DTEND;VALUE=DATE:20250210
DTSTAMP:20260421T012123
CREATED:20250113T172527Z
LAST-MODIFIED:20250113T172527Z
UID:4392-1738972800-1739145599@gfwcnewtampa.org
SUMMARY:Kendra Scott Fundraiser
DESCRIPTION:Saturday\, February 8th – 12:00 pm to 2:00 pm \nKendra Scott Fundraiser \nFundraising Committee \nSignUpGenius ???? Kendra Scott Ambassador February 8th \n  \n\nSignUP Genius is for in store volunteers -Feb 8th  in-store fundraiser – need 2 – 3 ambassadors to greet shoppers\nFeb 8th and 9th- online fundraiser\nProceeds to benefit the GFWC WCNT.
URL:https://gfwcnewtampa.org/event/kendra-scott-fundraiser-4/
END:VEVENT
BEGIN:VEVENT
DTSTART;TZID=America/New_York:20250211T190000
DTEND;TZID=America/New_York:20250211T200000
DTSTAMP:20260421T012123
CREATED:20250113T172626Z
LAST-MODIFIED:20250113T172626Z
UID:4394-1739300400-1739304000@gfwcnewtampa.org
SUMMARY:The Role Storytelling Plays in Advancing a Brand and Building Membership
DESCRIPTION:Tuesday\, February 11th @ 7 P.M. \nThe Role Storytelling Plays in Advancing a Brand and Building Membership \nMembership Committee \nTHE GFWC LEARNING GATEWAY SERIES https://bit.ly/3UI3Srs \nLeslie Capps\, Founder Wild Woman Marketing and GFWC Communications Honorary Chairman \nPersonal Connections are the key to building membership. We will delve into how using your \nGFWC volunteer story as a marketing strategy will gain local recognition and increase membership \nnumbers!
URL:https://gfwcnewtampa.org/event/the-role-storytelling-plays-in-advancing-a-brand-and-building-membership/
END:VEVENT
BEGIN:VEVENT
DTSTART;TZID=America/New_York:20250212T170000
DTEND;TZID=America/New_York:20250212T180000
DTSTAMP:20260421T012123
CREATED:20250113T172711Z
LAST-MODIFIED:20250113T172711Z
UID:4396-1739379600-1739383200@gfwcnewtampa.org
SUMMARY:Wellness Wednesday with Linda Jones
DESCRIPTION:Wednesday\, February 12th @ 5 pm \nWellness Wednesday with Linda Jones \nHealth & Wellness Committee \nSignUpGenius ???? Wellness Wednesday February 12th \n  \n\nJoin our very own Linda Jones fitness class at Hunter’s Green Athletic Center\n Free for Social Members and $10 for visitors
URL:https://gfwcnewtampa.org/event/wellness-wednesday-with-linda-jones-13/
END:VEVENT
BEGIN:VEVENT
DTSTART;TZID=America/New_York:20250213T180000
DTEND;TZID=America/New_York:20250213T200000
DTSTAMP:20260421T012123
CREATED:20250121T135650Z
LAST-MODIFIED:20250121T135650Z
UID:4437-1739469600-1739476800@gfwcnewtampa.org
SUMMARY:GALentine’s Social Event @ Bayscape of Heritage Isles
DESCRIPTION:Thursday\, February 13th – 6:00 pm \nGALentine’s Social Event @ Bayscape of Heritage Isles \nMembership Committee \nSignUpGenius ????  GALentines Day Dinner February 13th \n  \n\nCome have some great food and a fun time hanging out with your WCNT gal pals!
URL:https://gfwcnewtampa.org/event/galentines-social-event-bayscape-of-heritage-isles-2/
END:VEVENT
BEGIN:VEVENT
DTSTART;TZID=America/New_York:20250217T180000
DTEND;TZID=America/New_York:20250217T190000
DTSTAMP:20260421T012123
CREATED:20250217T021316Z
LAST-MODIFIED:20250217T021316Z
UID:4499-1739815200-1739818800@gfwcnewtampa.org
SUMMARY:Money Management Webinar
DESCRIPTION:Registration link for Webinars: https://forms.gle/g9Y2REFbT2tMSHkv9\n\nThis webinar is designed to share information about several important financial responsibilities that clubs must complete and submit each year. Information covered includes\, do you know what tax forms must be filed? When are they due? Do you know where to find the forms? Does your club do an annual audit? Spoiler alert\, you should. What types of insurance does your club need? These questions will be answered during this webinar\, in addition to acquiring new information and helpful hints. Who will benefit from  attending? Club treasurers\, assistant treasurers\, club presidents\, any officer with the responsibility of completing any of these documents and/or duties\, any upcoming club leaders or club members that are interested in learning about these responsibilities.
URL:https://gfwcnewtampa.org/event/money-management-webinar/
END:VEVENT
BEGIN:VEVENT
DTSTART;TZID=America/New_York:20250219T123000
DTEND;TZID=America/New_York:20250219T140000
DTSTAMP:20260421T012123
CREATED:20250113T172903Z
LAST-MODIFIED:20250121T142015Z
UID:4400-1739968200-1739973600@gfwcnewtampa.org
SUMMARY:General Meeting All About Caring Meeting with One More Child +
DESCRIPTION:Wednesday\, February 19th 1:00 (Optional Activity 12:30) – Bookmarks for Read Across America an Journal Gift Bags \nGeneral Meeting All About Caring Meeting with One More Child + – Racquel Sturgis GFWC Florida Director of Junior Clubs focus project \nCivic Committee \nSignUpGenius ????February General Meeting February 19th \n\n\nHOA @ 12:30 We will be making fabric bookmarks for Read Across America and creating journal gift bags for Friends of Joshua House Pizza Party on March 14th \n\n\nCollection:  One More Child +Diaper collection \n\n\nNominating Committee: Please consider joining our Leadership Team for 2025/2026 \n\n\nSpeaker – One More Child+ GFWC Florida Juniors Racquel Sturgis special project \n\n\n  \n 
URL:https://gfwcnewtampa.org/event/general-meeting-all-about-caring-meeting-with-one-more-child/
END:VEVENT
BEGIN:VEVENT
DTSTART;VALUE=DATE:20250221
DTEND;VALUE=DATE:20250222
DTSTAMP:20260421T012123
CREATED:20250121T142256Z
LAST-MODIFIED:20250121T142336Z
UID:4447-1740096000-1740182399@gfwcnewtampa.org
SUMMARY:Founders Day Donation February 21st
DESCRIPTION:Women’s History and Resource Center Committee \nFounders Day Donation February 21st – We will be making a monetary donation and posting HERstory Information on our social media
URL:https://gfwcnewtampa.org/event/founders-day-donation-february-21st-2/
END:VEVENT
BEGIN:VEVENT
DTSTART;TZID=America/New_York:20250222T090000
DTEND;TZID=America/New_York:20250222T120000
DTSTAMP:20260421T012124
CREATED:20250113T173201Z
LAST-MODIFIED:20250121T135846Z
UID:4404-1740214800-1740225600@gfwcnewtampa.org
SUMMARY:District 8 Arts & Crafts Competition and District Volunteer of the Year
DESCRIPTION:February 22nd Registration 9:00 am \nDistrict 8 Arts & Crafts Competition and District Volunteer of the Year \nArts & Culture Committee \nSignUpGenius ???? D8 Arts & Craft February 22nd \n\nHost Club GFWC Tampa Bay Woman’s Club\nTampa Bay Golf and Country Club House; 10641 Old Tampa Bay Blvd; San Antonio\, FL 33576\nGFWC WCNT to pay registration fee of $29 * SignUpGenius by 2/8/24
URL:https://gfwcnewtampa.org/event/district-8-arts-crafts-competition-and-district-volunteer-of-the-year/
END:VEVENT
END:VCALENDAR